BEGIN:VCALENDAR
VERSION:2.0
PRODID:-//eventon.com NONSGML v1.0//EN
CALSCALE:GREGORIAN
METHOD:PUBLISH
BEGIN:VEVENT
UID:69e746ac08ca7
DTSTAMP:20260421T094308Z
DTSTART:20170212T060000Z
DTEND:20170212T060000Z
LOCATION:Snow Valley Resort
SUMMARY:SOD U10 - Kinder Combi Slalom
DESCRIPTION:SOD U10 - Kinder Combi Slalom\nhttps://www.timingshack.ca/event
 s/sod-u10-kinder-combi-slalom/
URL:https://www.timingshack.ca/events/sod-u10-kinder-combi-slalom/
END:VEVENT
END:VCALENDAR