BEGIN:VCALENDAR
VERSION:2.0
PRODID:-//eventon.com NONSGML v1.0//EN
CALSCALE:GREGORIAN
METHOD:PUBLISH
BEGIN:VEVENT
UID:69e4cdf77b0be
DTSTAMP:20260419T124335Z
DTSTART:20171112T133000Z
DTEND:20171113T045000Z
LOCATION:Rock The Road Arva Flour Mills\,  2042 Elgin Street
SUMMARY:Rock The Road 2017
DESCRIPTION:Rock the Road\,  Presented by The Arva Flour Mill is a 5-­‐k
 ilometer road race and family-­‐festival that will start and finish at t
 he Arva Flour Mill in Arva\,  Ontario.\nhttps://www.timingshack.ca/events/2
 0171112-rtr/
URL:https://www.timingshack.ca/events/20171112-rtr/
END:VEVENT
END:VCALENDAR