BEGIN:VCALENDAR
VERSION:2.0
PRODID:-//eventon.com NONSGML v1.0//EN
CALSCALE:GREGORIAN
METHOD:PUBLISH
BEGIN:VEVENT
UID:69e7235000d6a
DTSTAMP:20260421T071216Z
DTSTART:20180103
DTEND:20180104
LOCATION:
SUMMARY:FIS OCUP SLALOM
DESCRIPTION:FIS OCUP SLALOM\nhttps://www.timingshack.ca/events/20180103-nzo
 cup-mslm/
URL:https://www.timingshack.ca/events/20180103-nzocup-mslm/
END:VEVENT
END:VCALENDAR