BEGIN:VCALENDAR
VERSION:2.0
PRODID:-//eventon.com NONSGML v1.0//EN
CALSCALE:GREGORIAN
METHOD:PUBLISH
BEGIN:VEVENT
UID:69e9dd84e941d
DTSTAMP:20260423T085116Z
DTSTART:20180624T130000Z
DTEND:20180624T160000Z
LOCATION:Guelph Lake Conservation Area 7743 Conservation Rd
SUMMARY:Big Little Run 2018
DESCRIPTION:Big Little Run 2018! 5K and 10K run on Sunday June 24th at the 
 scenic Guelph Lake Conservation Area that supports Big Brothers Big Sisters
  of Guelph! Perfect for men\,  women\,  children and four legged friends! R
 egister today at www.biglittlerun.ca!\nhttps://www.timingshack.ca/events/20
 180624-blr/
URL:https://www.timingshack.ca/events/20180624-blr/
END:VEVENT
END:VCALENDAR