BEGIN:VCALENDAR
VERSION:2.0
PRODID:-//eventon.com NONSGML v1.0//EN
CALSCALE:GREGORIAN
METHOD:PUBLISH
BEGIN:VEVENT
UID:69e9f0c547e53
DTSTAMP:20260423T101325Z
DTSTART:20180929
DTEND:20180930
LOCATION:Morning Park\,  Scarborough 390 Morningside Ave\,  Scarborough\,  ON M1C 1B9
SUMMARY:Brave T.O.
DESCRIPTION:Canadian Tire Brave T.O. is a family-friendly obstacle race in 
 support of Scarborough and Rouge Hospital. Race your way during this fun ru
 n inspired by Toronto’s first responders. Participants of all ages and sk
 ill levels are invited to make a difference in Scarborough’s health care.
  Register to fundraise for a[..]\nhttps://www.timingshack.ca/events/2018092
 9-bto/
URL:https://www.timingshack.ca/events/20180929-bto/
END:VEVENT
END:VCALENDAR