BEGIN:VCALENDAR
VERSION:2.0
PRODID:-//eventon.com NONSGML v1.0//EN
CALSCALE:GREGORIAN
METHOD:PUBLISH
BEGIN:VEVENT
UID:69e9d9cc0ad1e
DTSTAMP:20260423T083524Z
DTSTART:20190311
DTEND:20190312
LOCATION:
SUMMARY:OCUP U14 FINALS - DUAL SLALOM
DESCRIPTION:OCUP U14 FINALS - DUAL SLALOM\nhttps://www.timingshack.ca/event
 s/20190311-dual/
URL:https://www.timingshack.ca/events/20190311-dual/
END:VEVENT
END:VCALENDAR