BEGIN:VCALENDAR
VERSION:2.0
PRODID:-//eventon.com NONSGML v1.0//EN
CALSCALE:GREGORIAN
METHOD:PUBLISH
BEGIN:VEVENT
UID:69e64879251b8
DTSTAMP:20260420T153833Z
DTSTART:20190223
DTEND:20190224
LOCATION:Devils Glen Country Club 1793 County Road 124\,  L0M 1H0
SUMMARY:Mackenzie Investments U14 OCup
DESCRIPTION:Mackenzie Investments U14 OCup\nhttps://www.timingshack.ca/even
 ts/20190223-dgu14/
URL:https://www.timingshack.ca/events/20190223-dgu14/
END:VEVENT
END:VCALENDAR