BEGIN:VCALENDAR
VERSION:2.0
PRODID:-//eventon.com NONSGML v1.0//EN
CALSCALE:GREGORIAN
METHOD:PUBLISH
BEGIN:VEVENT
UID:69e722d51ac62
DTSTAMP:20260421T071013Z
DTSTART:20210321T010000Z
DTEND:20210321T035000Z
LOCATION:
SUMMARY:Craigleith Cup
DESCRIPTION:U8 U14 U19/Adult\nhttps://www.timingshack.ca/events/evt-2021032
 0/
URL:https://www.timingshack.ca/events/evt-20210320/
END:VEVENT
END:VCALENDAR