BEGIN:VCALENDAR
VERSION:2.0
PRODID:-//eventon.com NONSGML v1.0//EN
CALSCALE:GREGORIAN
METHOD:PUBLISH
BEGIN:VEVENT
UID:69e9f1236f832
DTSTAMP:20260423T101459Z
DTSTART:20210918
DTEND:20210919
LOCATION:Cedar Ridge Camp 57 Cemetery Rd\,  McArthurs Mills\,  Ontario\,  K0L 2M0
SUMMARY:Cedar Ridge Hilly Half
DESCRIPTION:Cedar Ridge Hilly Half\nhttps://www.timingshack.ca/events/cedar
 -ridge-hilly-half/
URL:https://www.timingshack.ca/events/cedar-ridge-hilly-half/
END:VEVENT
END:VCALENDAR