BEGIN:VCALENDAR
VERSION:2.0
PRODID:-//eventon.com NONSGML v1.0//EN
CALSCALE:GREGORIAN
METHOD:PUBLISH
BEGIN:VEVENT
UID:69e9fdf134389
DTSTAMP:20260423T110937Z
DTSTART:20220121T140000Z
DTEND:20220122T045000Z
LOCATION:
SUMMARY:U16 OCup Slalom Men (2 races)
DESCRIPTION:U16 OCup Slalom Men (2 races)\nhttps://www.timingshack.ca/event
 s/20220121-tsc/
URL:https://www.timingshack.ca/events/20220121-tsc/
END:VEVENT
END:VCALENDAR