BEGIN:VCALENDAR
VERSION:2.0
PRODID:-//eventon.com NONSGML v1.0//EN
CALSCALE:GREGORIAN
METHOD:PUBLISH
BEGIN:VEVENT
UID:69e4fb8b2181b
DTSTAMP:20260419T155803Z
DTSTART:20220129T140000Z
DTEND:20220130T045000Z
LOCATION:
SUMMARY:U12 SOD Cup - PSL
DESCRIPTION:U12 SOD Cup - PSL\nhttps://www.timingshack.ca/events/20220129-b
 lue/
URL:https://www.timingshack.ca/events/20220129-blue/
END:VEVENT
END:VCALENDAR