BEGIN:VCALENDAR
VERSION:2.0
PRODID:-//eventon.com NONSGML v1.0//EN
CALSCALE:GREGORIAN
METHOD:PUBLISH
BEGIN:VEVENT
UID:69e500a9dcbdb
DTSTAMP:20260419T161953Z
DTSTART:20220204T140000Z
DTEND:20220205T045000Z
LOCATION:
SUMMARY:Invitational Alpine Ski Race @ Blue Mountain
DESCRIPTION:Invitational Alpine Ski Race @ Blue Mountain\nhttps://www.timin
 gshack.ca/events/20220204-blue/
URL:https://www.timingshack.ca/events/20220204-blue/
END:VEVENT
END:VCALENDAR