BEGIN:VCALENDAR
VERSION:2.0
PRODID:-//eventon.com NONSGML v1.0//EN
CALSCALE:GREGORIAN
METHOD:PUBLISH
BEGIN:VEVENT
UID:69e5e5f8bd8cc
DTSTAMP:20260420T083816Z
DTSTART:20220206T140000Z
DTEND:20220207T045000Z
LOCATION:
SUMMARY:U12 SOD Cup - Kombi @ TSC
DESCRIPTION:U12 SOD Cup - Kombi @ TSC\nhttps://www.timingshack.ca/events/20
 220206-tsc/
URL:https://www.timingshack.ca/events/20220206-tsc/
END:VEVENT
END:VCALENDAR