BEGIN:VCALENDAR
VERSION:2.0
PRODID:-//eventon.com NONSGML v1.0//EN
CALSCALE:GREGORIAN
METHOD:PUBLISH
BEGIN:VEVENT
UID:69e649f92c4db
DTSTAMP:20260420T154457Z
DTSTART:20220227T140000Z
DTEND:20220228T045000Z
LOCATION:
SUMMARY:U14 SOD Cup - Giant Slalom @ TSC
DESCRIPTION:U14 SOD Cup - Giant Slalom @ TSC\nhttps://www.timingshack.ca/ev
 ents/20220227-tsc/
URL:https://www.timingshack.ca/events/20220227-tsc/
END:VEVENT
END:VCALENDAR