BEGIN:VCALENDAR
VERSION:2.0
PRODID:-//eventon.com NONSGML v1.0//EN
CALSCALE:GREGORIAN
METHOD:PUBLISH
BEGIN:VEVENT
UID:69e9dc6415681
DTSTAMP:20260423T084628Z
DTSTART:20220625T113000Z
DTEND:20220625T210000Z
LOCATION:Sawmill Ski Trail
SUMMARY:Suntrail Pure Grit Trail Race
DESCRIPTION:Hosted by Georgian Bay Nordic\nhttps://www.timingshack.ca/event
 s/20220625-spg/
URL:https://www.timingshack.ca/events/20220625-spg/
END:VEVENT
END:VCALENDAR