BEGIN:VCALENDAR
VERSION:2.0
PRODID:-//eventon.com NONSGML v1.0//EN
CALSCALE:GREGORIAN
METHOD:PUBLISH
BEGIN:VEVENT
UID:69e9d965dad02
DTSTAMP:20260423T083341Z
DTSTART:20230916
DTEND:20230917
LOCATION:Cedar Ridge Camp 57 Cemetery Rd\,  McArthurs Mills\,  Ontario\,  K0L 2M0
SUMMARY:Cedar Ridge Hilly Half
DESCRIPTION:This September\,  Cedar Ridge Camp will be hosting the 3rd annu
 al CRC Hilly Half-Marathon to support AMICI Charity and Kids in Camp.&nbsp;
 These charities support campers and their families by making it possible fo
 r underprivileged kids to reach their full potential through camp experienc
 e. Lace up your sneakers because Cedar Ridge[..]\nhttps://www.timingshack.c
 a/events/20230916_crhh/
URL:https://www.timingshack.ca/events/20230916_crhh/
END:VEVENT
END:VCALENDAR