BEGIN:VCALENDAR
VERSION:2.0
PRODID:-//eventon.com NONSGML v1.0//EN
CALSCALE:GREGORIAN
METHOD:PUBLISH
BEGIN:VEVENT
UID:69e78466cb9bd
DTSTAMP:20260421T140630Z
DTSTART:20240121T140000Z
DTEND:20240121T200000Z
LOCATION:
SUMMARY:U14 SOD Cup
DESCRIPTION:\nhttps://www.timingshack.ca/events/20240121-tsc/
URL:https://www.timingshack.ca/events/20240121-tsc/
END:VEVENT
END:VCALENDAR