BEGIN:VCALENDAR
VERSION:2.0
PRODID:-//eventon.com NONSGML v1.0//EN
CALSCALE:GREGORIAN
METHOD:PUBLISH
BEGIN:VEVENT
UID:69e9dc164e66a
DTSTAMP:20260423T084510Z
DTSTART:20240804T110000Z
DTEND:20240804T180000Z
LOCATION:Mike Weir Park 2354 Lakeshore Rd\,  N7X 1G7
SUMMARY:Bluewater International Gran Fondo
DESCRIPTION:Bluewater International Gran Fondo\nhttps://www.timingshack.ca/
 events/20240804-bigf/
URL:https://www.timingshack.ca/events/20240804-bigf/
END:VEVENT
END:VCALENDAR