BEGIN:VCALENDAR
VERSION:2.0
PRODID:-//eventon.com NONSGML v1.0//EN
CALSCALE:GREGORIAN
METHOD:PUBLISH
BEGIN:VEVENT
UID:69e723c8e91c5
DTSTAMP:20260421T071416Z
DTSTART:20240928
DTEND:20240929
LOCATION:Cedar Ridge Camp 57 Cemetery Rd\,  McArthurs Mills\,  Ontario\,  K0L 2M0
SUMMARY:Cedar Ridge Hilly Half
DESCRIPTION:This September\,  Cedar Ridge Camp will be hosting the 4th annu
 al CRC Hilly Half-Marathon to support AMICI Charity and Kids in Camp. Thes
 e charities support campers and their families by making it possible for un
 derprivileged kids to reach their full potential through camp experience. L
 ace up your sneakers because Cedar Ridge[..]\nhttps://www.timingshack.ca/ev
 ents/20240928-hhm/
URL:https://www.timingshack.ca/events/20240928-hhm/
END:VEVENT
END:VCALENDAR