BEGIN:VCALENDAR
VERSION:2.0
PRODID:-//eventon.com NONSGML v1.0//EN
CALSCALE:GREGORIAN
METHOD:PUBLISH
BEGIN:VEVENT
UID:69e9dc6f2f579
DTSTAMP:20260423T084639Z
DTSTART:20250124T200000Z
DTEND:20250124T200000Z
LOCATION:
SUMMARY:U10/U12 Weider Cup
DESCRIPTION:Alpine Ski &#8211; Giant Slalom\nhttps://www.timingshack.ca/eve
 nts/u10-u12-weider-cup/
URL:https://www.timingshack.ca/events/u10-u12-weider-cup/
END:VEVENT
END:VCALENDAR