BEGIN:VCALENDAR
VERSION:2.0
PRODID:-//eventon.com NONSGML v1.0//EN
CALSCALE:GREGORIAN
METHOD:PUBLISH
BEGIN:VEVENT
UID:69e6fcdcd7f9a
DTSTAMP:20260421T042812Z
DTSTART:20250125T200000Z
DTEND:20250125T200000Z
LOCATION:
SUMMARY:Gee Trophy - U16/U18 OCup
DESCRIPTION:Alpine Ski &#8211; Slalom\nhttps://www.timingshack.ca/events/20
 250125-dg/
URL:https://www.timingshack.ca/events/20250125-dg/
END:VEVENT
END:VCALENDAR