BEGIN:VCALENDAR
VERSION:2.0
PRODID:-//eventon.com NONSGML v1.0//EN
CALSCALE:GREGORIAN
METHOD:PUBLISH
BEGIN:VEVENT
UID:69e500aa0ee1e
DTSTAMP:20260419T161954Z
DTSTART:20250202T030000Z
DTEND:20250201T200000Z
LOCATION:
SUMMARY:U18 Giant Slalom
DESCRIPTION:Alpine Ski &#8211; Giant Slalom\nhttps://www.timingshack.ca/eve
 nts/20250201-tsc/
URL:https://www.timingshack.ca/events/20250201-tsc/
END:VEVENT
END:VCALENDAR