BEGIN:VCALENDAR
VERSION:2.0
PRODID:-//eventon.com NONSGML v1.0//EN
CALSCALE:GREGORIAN
METHOD:PUBLISH
BEGIN:VEVENT
UID:69e6fe6a91a31
DTSTAMP:20260421T043450Z
DTSTART:20250208T030000Z
DTEND:20250207T200000Z
LOCATION:
SUMMARY:Downhill Blitz GS
DESCRIPTION:Alpine Ski &#8211; Giant Slalom\nhttps://www.timingshack.ca/eve
 nts/20250207-bmr/
URL:https://www.timingshack.ca/events/20250207-bmr/
END:VEVENT
END:VCALENDAR