BEGIN:VCALENDAR
VERSION:2.0
PRODID:-//eventon.com NONSGML v1.0//EN
CALSCALE:GREGORIAN
METHOD:PUBLISH
BEGIN:VEVENT
UID:69e9d9cc31887
DTSTAMP:20260423T083524Z
DTSTART:20250215T030000Z
DTEND:20250214T200000Z
LOCATION:Blue Mountain\,  Ontario
SUMMARY:U14/U16 SCup Qualifier @ Blue
DESCRIPTION:Alpine Ski &#8211; Slalom\nhttps://www.timingshack.ca/events/20
 250214-bmr/
URL:https://www.timingshack.ca/events/20250214-bmr/
END:VEVENT
END:VCALENDAR