BEGIN:VCALENDAR
VERSION:2.0
PRODID:-//eventon.com NONSGML v1.0//EN
CALSCALE:GREGORIAN
METHOD:PUBLISH
BEGIN:VEVENT
UID:69e723af0477f
DTSTAMP:20260421T071351Z
DTSTART:20250224T030000Z
DTEND:20250223T200000Z
LOCATION:Toronto Ski Club 796456 Grey County Rd 19\,  The Blue Mountains\,  ON L9Y 0N6
SUMMARY:U14 SCup Finals @ TSC
DESCRIPTION:Alpine Ski &#8211; Panel Slalom\nhttps://www.timingshack.ca/eve
 nts/20250223-tsc/
URL:https://www.timingshack.ca/events/20250223-tsc/
END:VEVENT
END:VCALENDAR