BEGIN:VCALENDAR
VERSION:2.0
PRODID:-//eventon.com NONSGML v1.0//EN
CALSCALE:GREGORIAN
METHOD:PUBLISH
BEGIN:VEVENT
UID:69e8a207b1bea
DTSTAMP:20260422T102511Z
DTSTART:20251011T140000Z
DTEND:20251012T035900Z
LOCATION:Fenelon Trail 98 Francis St. West Fenelon Falls\,  Ontario K0M1N0
SUMMARY:Fenelon Falls Turkey Trot - 1K/5K/10K
DESCRIPTION:This run/walk event is an out and back along the kawartha Rail 
 Trail.\nhttps://www.timingshack.ca/events/20251007-fttt/
URL:https://www.timingshack.ca/events/20251007-fttt/
END:VEVENT
END:VCALENDAR