BEGIN:VCALENDAR
VERSION:2.0
PRODID:-//eventon.com NONSGML v1.0//EN
CALSCALE:GREGORIAN
METHOD:PUBLISH
BEGIN:VEVENT
UID:69e4ff1e38c9d
DTSTAMP:20260419T161318Z
DTSTART:20250731T210000Z
DTEND:20250731T210000Z
LOCATION:
SUMMARY:Bluewater Granfondo 2025
DESCRIPTION:\nhttps://www.timingshack.ca/events/20250803-bigf/
URL:https://www.timingshack.ca/events/20250803-bigf/
END:VEVENT
END:VCALENDAR