BEGIN:VCALENDAR
VERSION:2.0
PRODID:-//eventon.com NONSGML v1.0//EN
CALSCALE:GREGORIAN
METHOD:PUBLISH
BEGIN:VEVENT
UID:69e586c565bdd
DTSTAMP:20260420T015205Z
DTSTART:20260419
DTEND:20260420
LOCATION:Professor’s Lake Brampton Professor’s Lake Recreation Centre 1660 North Park Road Brampton\,  Ontario L6S 4B4
SUMMARY:Run 4 Hope 5K/10K
DESCRIPTION:A flat 5k/10K around the lake with only few small hills. 1 loop
  for 5k\,  2 loops for 10K\nhttps://www.timingshack.ca/events/run-4-hope-5k
 -10k-2/
URL:https://www.timingshack.ca/events/run-4-hope-5k-10k-2/
END:VEVENT
END:VCALENDAR