BEGIN:VCALENDAR
VERSION:2.0
PRODID:-//eventon.com NONSGML v1.0//EN
CALSCALE:GREGORIAN
METHOD:PUBLISH
BEGIN:VEVENT
UID:69e500deb4139
DTSTAMP:20260419T162046Z
DTSTART:20170115
DTEND:20170116
LOCATION:Horseshoe Valley Resort 1101 Horseshoe Valley Road\,  L4M 4Y8
SUMMARY:SOD U16-Series 3-SL
DESCRIPTION:Women Slalom Results Men Slalom Results\nhttps://www.timingshac
 k.ca/events/20170115-hsvu16/
URL:https://www.timingshack.ca/events/20170115-hsvu16/
END:VEVENT
END:VCALENDAR