BEGIN:VCALENDAR
VERSION:2.0
PRODID:-//eventon.com NONSGML v1.0//EN
CALSCALE:GREGORIAN
METHOD:PUBLISH
BEGIN:VEVENT
UID:69e9f0f8b6a55
DTSTAMP:20260423T101416Z
DTSTART:20170205
DTEND:20170206
LOCATION:Horseshoe Valley Resort 1101 Horseshoe Valley Road\,  L4M 4Y8
SUMMARY:SOD U14-Series 2-SL
DESCRIPTION:Register Women SL Register Men SL\nhttps://www.timingshack.ca/e
 vents/20170129-hsv-2/
URL:https://www.timingshack.ca/events/20170129-hsv-2/
END:VEVENT
END:VCALENDAR