BEGIN:VCALENDAR
VERSION:2.0
PRODID:-//eventon.com NONSGML v1.0//EN
CALSCALE:GREGORIAN
METHOD:PUBLISH
BEGIN:VEVENT
UID:69e9dc259330e
DTSTAMP:20260423T084525Z
DTSTART:20170129
DTEND:20170130
LOCATION:Toronto Ski Club 796456 Grey County Rd 19\,  The Blue Mountains\,  ON L9Y 0N6
SUMMARY:SOD U14-Group 2-GS
DESCRIPTION:Register Women GS Register Men GS\nhttps://www.timingshack.ca/e
 vents/20170129-tsc/
URL:https://www.timingshack.ca/events/20170129-tsc/
END:VEVENT
END:VCALENDAR