BEGIN:VCALENDAR
VERSION:2.0
PRODID:-//eventon.com NONSGML v1.0//EN
CALSCALE:GREGORIAN
METHOD:PUBLISH
BEGIN:VEVENT
UID:69e649237296e
DTSTAMP:20260420T154123Z
DTSTART:20170121
DTEND:20170122
LOCATION:Snow Valley Resort
SUMMARY:SOD U14-Series 4
DESCRIPTION:Women Slalom Registration Men Slalom Registration\nhttps://www.
 timingshack.ca/events/20170121-snowv/
URL:https://www.timingshack.ca/events/20170121-snowv/
END:VEVENT
END:VCALENDAR