BEGIN:VCALENDAR
VERSION:2.0
PRODID:-//eventon.com NONSGML v1.0//EN
CALSCALE:GREGORIAN
METHOD:PUBLISH
BEGIN:VEVENT
UID:69e4fd1861272
DTSTAMP:20260419T160440Z
DTSTART:20170128
DTEND:20170129
LOCATION:Blue Mountain\,  Ontario
SUMMARY:SOD U12-ZONE 2A
DESCRIPTION:Blue  Mountain Ladies&#8217; Results Men Results &nbsp;\nhttps
 ://www.timingshack.ca/events/20170128-u12/
URL:https://www.timingshack.ca/events/20170128-u12/
END:VEVENT
END:VCALENDAR